BEGIN:VCALENDAR
VERSION:2.0
PRODID:-//Squarespace Inc/Squarespace 6//v6//EN
BEGIN:VEVENT
UID:5e2ba9ec3219ca449acd95b0@squarespace.com
DTSTAMP:20200125T024347Z
DTSTART:20200208T013000Z
DTEND:20200208T053000Z
SUMMARY:Urban Wine Walk - Perth City - Varnish on King
END:VEVENT
END:VCALENDAR
